BEGIN:VCALENDAR
VERSION:2.0
PRODID:-//Le Partenariat - ECPv5.3.2.1//NONSGML v1.0//EN
CALSCALE:GREGORIAN
METHOD:PUBLISH
X-WR-CALNAME:Le Partenariat
X-ORIGINAL-URL:https://www.lepartenariat.org
X-WR-CALDESC:évènements pour Le Partenariat
BEGIN:VTIMEZONE
TZID:Europe/Paris
BEGIN:DAYLIGHT
TZOFFSETFROM:+0100
TZOFFSETTO:+0200
TZNAME:CEST
DTSTART:20220327T010000
END:DAYLIGHT
BEGIN:STANDARD
TZOFFSETFROM:+0200
TZOFFSETTO:+0100
TZNAME:CET
DTSTART:20221030T010000
END:STANDARD
END:VTIMEZONE
BEGIN:VEVENT
DTSTART;TZID=Europe/Paris:20221201T180000
DTEND;TZID=Europe/Paris:20221201T210000
DTSTAMP:20260425T044519
CREATED:20221127T211826Z
LAST-MODIFIED:20221127T212344Z
UID:6247-1669917600-1669928400@www.lepartenariat.org
SUMMARY:Seconde édition des jeudis du partenariat
DESCRIPTION:La seconde édition des jeudis du partenariat a lieu ce jeudi.\n\n\nLe thème abordé sera le changement climatique 🌪\, par le biais d’un jeu sur la montée des eaux 🌊\, avec pour invité Gregory Derville\, enseignant-chercheur à l’Université de Lille.\nCette soirée sera animée par un groupe tutoré d’étudiant·e·s en Master 2 de science politique\, parcours action humanitaire\, à l’Université de Lille.\n\n\n\nL’événement est gratuit 🆓 et ouvert à toutes et tous\, pour cela rien de plus simple\, il vous suffit de vous inscrire sur le site de HelloAsso :\n\n\nhttps://www.helloasso.com/associations/le-partenariat/evenements/les-jeudis-du-partenariat-soiree-jeu-autour-du-changement-climatique\n\n\n\n\n\nPour mieux comprendre le déroulé de la soirée\, rendez-vous sur le site de Lianes Coopération ➡️ \n\n\nhttps://www.lianescooperation.org/evenement-adherent/les-jeudis-du-partenariat-2/\n\n\n\nLa soirée sera agrémentée d’un buffet convivial\, n’hésitez plus !
URL:https://www.lepartenariat.org/event/seconde-edition-des-jeudis-du-partenariat/
LOCATION:Centre Gaïa\, 71 rue Victor Renard\, Lille\, 59000\, France
CATEGORIES:À la une - accueil
END:VEVENT
BEGIN:VEVENT
DTSTART;TZID=Europe/Paris:20221217T140000
DTEND;TZID=Europe/Paris:20221217T180000
DTSTAMP:20260425T044519
CREATED:20221215T171156Z
LAST-MODIFIED:20221215T171338Z
UID:6283-1671285600-1671300000@www.lepartenariat.org
SUMMARY:Le partenariat vous invite à fêter Noël
DESCRIPTION:C’est bientôt Noël !\n\n\nAlors\, si vous cherchez des idées originales pour des cadeaux  de Noël équitables\, venez donc nous rejoindre au Marché de Noël du Partenariat . \n\n\nLes exposants présents pour l’occasion seront :\n\nUNICEF\, Monikreation\, Amis des enfants du monde\, la communauté haïtienne du Nord de la France et bien sûr Le Partenariat. \n\n\n\n\nToute l équipe du Partenariat vous attendra naturellement avec plaisir et enthousiasme !\n\n\n\nRendez-vous en nos locaux\, 71 rue Victor Renard à Lille la samedi 17 décembre dès 14h00.
URL:https://www.lepartenariat.org/event/le-partenariat-vous-invite-a-feter-noel/
LOCATION:Centre Gaïa\, 71 rue Victor Renard\, Lille\, 59000\, France
ATTACH;FMTTYPE=image/jpeg:https://www.lepartenariat.org/wp-content/uploads/2022/12/noel4.jpg
END:VEVENT
END:VCALENDAR