BEGIN:VCALENDAR
VERSION:2.0
PRODID:-//Le Partenariat - ECPv5.3.2.1//NONSGML v1.0//EN
CALSCALE:GREGORIAN
METHOD:PUBLISH
X-WR-CALNAME:Le Partenariat
X-ORIGINAL-URL:https://www.lepartenariat.org
X-WR-CALDESC:évènements pour Le Partenariat
BEGIN:VTIMEZONE
TZID:Europe/Paris
BEGIN:DAYLIGHT
TZOFFSETFROM:+0100
TZOFFSETTO:+0200
TZNAME:CEST
DTSTART:20200329T010000
END:DAYLIGHT
BEGIN:STANDARD
TZOFFSETFROM:+0200
TZOFFSETTO:+0100
TZNAME:CET
DTSTART:20201025T010000
END:STANDARD
END:VTIMEZONE
BEGIN:VEVENT
DTSTART;TZID=Europe/Paris:20200130T173000
DTEND;TZID=Europe/Paris:20200130T193000
DTSTAMP:20260419T212323
CREATED:20200114T165533Z
LAST-MODIFIED:20200114T165537Z
UID:3428-1580405400-1580412600@www.lepartenariat.org
SUMMARY:Vœux 2020
DESCRIPTION:[et_pb_section fb_built=”1″ _builder_version=”3.22″][et_pb_row _builder_version=”3.25″ background_size=”initial” background_position=”top_left” background_repeat=”repeat”][et_pb_column type=”4_4″ _builder_version=”3.25″ custom_padding=”|||” custom_padding__hover=”|||”][et_pb_text _builder_version=”4.1″ background_size=”initial” background_position=”top_left” background_repeat=”repeat” hover_enabled=”0″ text_orientation=”justified”] \nPour fêter la nouvelle année\, vous êtes cordialement invité·e·s aux vœux du Partenariat \nJeudi 30 janvier 2020 à 17h30 – 71 rue Victor Renard – 59000 LILLE\nEn présence de Nicolas DUPUY (directeur technique et coordinateur au Sénégal)\, de Nicolas MARTIN (coordinateur en Guinée)\, d’Aurélia LECLERC (coordinatrice au Maroc) et de Samir BOURI (président de SPFM – Solidarité Partenariat France Maroc). \n\nPrésentation des projets menés dans les trois pays.\nPrésentation des activités d’Éducation à la Citoyenneté et à la Solidarité Internationale (ECSI) en région Hauts-de-France.\n\nLe verre de l’amitié clôturera la soirée. \n[/et_pb_text][/et_pb_column][/et_pb_row][/et_pb_section]
URL:https://www.lepartenariat.org/event/voeux-2020/
LOCATION:Centre Gaïa\, 71 rue Victor Renard\, Lille\, 59000\, France
ATTACH;FMTTYPE=image/jpeg:https://www.lepartenariat.org/wp-content/uploads/2020/01/voeux-4.jpg
END:VEVENT
END:VCALENDAR