BEGIN:VCALENDAR
VERSION:2.0
PRODID:-//Le Partenariat - ECPv5.3.2.1//NONSGML v1.0//EN
CALSCALE:GREGORIAN
METHOD:PUBLISH
X-WR-CALNAME:Le Partenariat
X-ORIGINAL-URL:https://www.lepartenariat.org
X-WR-CALDESC:évènements pour Le Partenariat
BEGIN:VTIMEZONE
TZID:Europe/Paris
BEGIN:DAYLIGHT
TZOFFSETFROM:+0100
TZOFFSETTO:+0200
TZNAME:CEST
DTSTART:20220327T010000
END:DAYLIGHT
BEGIN:STANDARD
TZOFFSETFROM:+0200
TZOFFSETTO:+0100
TZNAME:CET
DTSTART:20221030T010000
END:STANDARD
END:VTIMEZONE
BEGIN:VEVENT
DTSTART;TZID=Europe/Paris:20221110T180000
DTEND;TZID=Europe/Paris:20221110T203000
DTSTAMP:20260419T160132
CREATED:20221015T132851Z
LAST-MODIFIED:20221015T133246Z
UID:6165-1668103200-1668112200@www.lepartenariat.org
SUMMARY:Première édition des Jeudis du Partenariat
DESCRIPTION:La première édition des Jeudis du Partenariat\, en collaboration avec la ville de Faches-Thumesnil\, aura lieu le jeudi 10 novembre (18h–20h30). \nSoirée littéraire dédiée à Brice Arsène Mankou afin de célébrer la journée internationale de l’écrivain africain. La modération sera assurée par Hervé Leroy.* \n  \n*RESERVATION OBLIGATOIRE
URL:https://www.lepartenariat.org/event/premiere-edition-des-jeudis-du-partenariat/
LOCATION:Le Partenariat\, 71 rue Victor Renard\, Lille\, 59000\, France
CATEGORIES:À la une - accueil
ORGANIZER;CN="Le%20Partenariat":MAILTO:contact@lepartenariat.org
END:VEVENT
END:VCALENDAR