BEGIN:VCALENDAR
VERSION:2.0
PRODID:-//Le Partenariat - ECPv5.3.2.1//NONSGML v1.0//EN
CALSCALE:GREGORIAN
METHOD:PUBLISH
X-WR-CALNAME:Le Partenariat
X-ORIGINAL-URL:https://www.lepartenariat.org
X-WR-CALDESC:évènements pour Le Partenariat
BEGIN:VTIMEZONE
TZID:Europe/Paris
BEGIN:DAYLIGHT
TZOFFSETFROM:+0100
TZOFFSETTO:+0200
TZNAME:CEST
DTSTART:20190331T010000
END:DAYLIGHT
BEGIN:STANDARD
TZOFFSETFROM:+0200
TZOFFSETTO:+0100
TZNAME:CET
DTSTART:20191027T010000
END:STANDARD
END:VTIMEZONE
BEGIN:VEVENT
DTSTART;TZID=Europe/Paris:20191127T160000
DTEND;TZID=Europe/Paris:20191127T170000
DTSTAMP:20260420T001316
CREATED:20191018T082303Z
LAST-MODIFIED:20191018T093947Z
UID:1736-1574870400-1574874000@www.lepartenariat.org
SUMMARY:Portes ouvertes : escape game au Sénégal
DESCRIPTION:Participez à l’Escape Game du Centre Gaïa : “le remède de la dernière chance” ! \nAdultes et enfants à partir de 9 ans – Gratuit \nInscription obligatoire : https://www.weezevent.com/escape-game-au-senegal-3 \n(Depuis 2006\, le centre Gaïa propose différentes activités afin de sensibiliser enfants\, jeunes et adultes aux échanges entre les régions du monde en développant des valeurs de respect\, de tolérance et de partage.)
URL:https://www.lepartenariat.org/event/portes-ouvertes-escape-game-au-senegal/
LOCATION:Centre Gaïa\, 71 rue Victor Renard\, Lille\, 59000\, France
CATEGORIES:À la une - accueil
ATTACH;FMTTYPE=image/jpeg:https://www.lepartenariat.org/wp-content/uploads/2019/10/DSC09759-e1571386971394.jpg
END:VEVENT
END:VCALENDAR