BEGIN:VCALENDAR
VERSION:2.0
PRODID:-//Le Partenariat - ECPv5.3.2.1//NONSGML v1.0//EN
CALSCALE:GREGORIAN
METHOD:PUBLISH
X-WR-CALNAME:Le Partenariat
X-ORIGINAL-URL:https://www.lepartenariat.org
X-WR-CALDESC:évènements pour Le Partenariat
BEGIN:VTIMEZONE
TZID:Europe/Paris
BEGIN:DAYLIGHT
TZOFFSETFROM:+0100
TZOFFSETTO:+0200
TZNAME:CEST
DTSTART:20210328T010000
END:DAYLIGHT
BEGIN:STANDARD
TZOFFSETFROM:+0200
TZOFFSETTO:+0100
TZNAME:CET
DTSTART:20211031T010000
END:STANDARD
END:VTIMEZONE
BEGIN:VEVENT
DTSTART;TZID=Europe/Paris:20210126T090000
DTEND;TZID=Europe/Paris:20210127T160000
DTSTAMP:20260423T122709
CREATED:20191018T102728Z
LAST-MODIFIED:20200914T120033Z
UID:1751-1611651600-1611763200@www.lepartenariat.org
SUMMARY:Formation Civique et Citoyenne : "Anim’action ! Jeux de sensibilisation à la solidarité internationale et au développement durable"
DESCRIPTION:[et_pb_section fb_built=”1″ _builder_version=”3.22″][et_pb_row _builder_version=”3.25″ background_size=”initial” background_position=”top_left” background_repeat=”repeat”][et_pb_column type=”4_4″ _builder_version=”3.25″ custom_padding=”|||” custom_padding__hover=”|||”][et_pb_text _builder_version=”4.4.8″ background_size=”initial” background_position=”top_left” background_repeat=”repeat” text_orientation=”justified”]La formation Anim’action propose aux volontaires en Service Civique de découvrir de manière ludique les enjeux liés au développement durable et à la solidarité internationale\, sous forme de jeux de rôle et d’animations interactives. \nCette formation vous permettra notamment d’échanger autour de thématiques en lien avec l’actualité et les questions de société contemporaines : la mondialisation\, l’agriculture biologique\, les mobilités\, les projets solidaires…\n[/et_pb_text][/et_pb_column][/et_pb_row][/et_pb_section]
URL:https://www.lepartenariat.org/event/formation-civique-et-citoyenne-animaction-sensibilisation-au-developpement-durable-et-a-la-solidarite-internationale/
LOCATION:Centre Gaïa\, 71 rue Victor Renard\, Lille\, 59000\, France
CATEGORIES:À la une - accueil
ATTACH;FMTTYPE=image/jpeg:https://www.lepartenariat.org/wp-content/uploads/2019/10/DSC00465-e1571394406631.jpg
END:VEVENT
END:VCALENDAR